BEGIN:VCALENDAR
VERSION:2.0
PRODID:-//RIGHTHERE//CALENDARIZE IT V3.2//EN
BEGIN:VEVENT
UID:6481-events@copary.fr
DTSTART:20260416T143000Z
DTEND:20260416T160000Z
DTSTAMP:20260223T075150Z
SUMMARY:Walter Lapin
URL:https://copary.fr/events/walter-lapin/
ORGANIZER;CN=COPARY:
LOCATION:Pl. Pierre Gaxotte\, 55800 Revigny-sur-Ornain
END:VEVENT
END:VCALENDAR